BEGIN:VCALENDAR
VERSION:2.0
PRODID:-//eventon.com NONSGML v1.0//EN
BEGIN:VEVENT
UID:69ecb36c03744
DTSTAMP:20260425T122828
DTSTART:20210924T200000Z
DTEND:20210924T235000Z
LOCATION:
SUMMARY:Union Stage Presents: Faye Webster
DESCRIPTION: ***Union Stage Policy Update: Proof of vaccination or a negative Covid-19 test taken within the prior 72 hrs is required to attend a US presented event. Review the Union Stage information page for your event prior to attending for any policy updates"*** Doors 6:30 PM | Show 8:00 PM |[..]
END:VEVENT
END:VCALENDAR